BEGIN:VCALENDAR
VERSION:2.0
PRODID:-//Museo di Geografia - Università degli Studi di Padova - ECPv6.15.20//NONSGML v1.0//EN
CALSCALE:GREGORIAN
METHOD:PUBLISH
X-WR-CALNAME:Museo di Geografia - Università degli Studi di Padova
X-ORIGINAL-URL:https://geografia.musei.unipd.it
X-WR-CALDESC:Eventi per Museo di Geografia - Università degli Studi di Padova
REFRESH-INTERVAL;VALUE=DURATION:PT1H
X-Robots-Tag:noindex
X-PUBLISHED-TTL:PT1H
BEGIN:VTIMEZONE
TZID:Europe/Rome
BEGIN:DAYLIGHT
TZOFFSETFROM:+0100
TZOFFSETTO:+0200
TZNAME:CEST
DTSTART:20250330T010000
END:DAYLIGHT
BEGIN:STANDARD
TZOFFSETFROM:+0200
TZOFFSETTO:+0100
TZNAME:CET
DTSTART:20251026T010000
END:STANDARD
BEGIN:DAYLIGHT
TZOFFSETFROM:+0100
TZOFFSETTO:+0200
TZNAME:CEST
DTSTART:20260329T010000
END:DAYLIGHT
BEGIN:STANDARD
TZOFFSETFROM:+0200
TZOFFSETTO:+0100
TZNAME:CET
DTSTART:20261025T010000
END:STANDARD
BEGIN:DAYLIGHT
TZOFFSETFROM:+0100
TZOFFSETTO:+0200
TZNAME:CEST
DTSTART:20270328T010000
END:DAYLIGHT
BEGIN:STANDARD
TZOFFSETFROM:+0200
TZOFFSETTO:+0100
TZNAME:CET
DTSTART:20271031T010000
END:STANDARD
END:VTIMEZONE
BEGIN:VEVENT
DTSTART;TZID=Europe/Rome:20260115T160000
DTEND;TZID=Europe/Rome:20260115T170000
DTSTAMP:20260421T064718
CREATED:20260107T142121Z
LAST-MODIFIED:20260108T123518Z
UID:29417-1768492800-1768496400@geografia.musei.unipd.it
SUMMARY:Dance Moves. Walking and drawing in the city
DESCRIPTION:Giovedì 15 gennaio alle ore 17:30\, a conclusione del convegno internazionale Urban Mobility Cultures: Creative and Narrative Approaches to Moving in the City\, organizzato dal dipartimento DiSSGeA dell’Università di Padova in collaborazione con il Mobility and the humanities. Centre for advanced studies\, al museo si svolgerà il pre-vernissage dell’esposizione Dance Moves. Walking and drawing in the city con l’artista-ricercatrice Tânia A. Cardoso.  \nL’ingresso è gratuito. \nLa mostra dell’illustratrice e urbanista Tânia Alexandra Cardoso\, il cui lavoro esplora la poetica del quotidiano\, utilizzando l’arte grafica per interrogare e co-creare l’ambiente urbano\, è dedicata al rapporto tra illustrazione\, città e cammino\, dove sarà possibile scoprire il disegno e il fumetto come strumenti creativi per la ricerca urbana.  \nQuesto evento e più in generale anche la conferenza\, si inseriscono all’interno del progetto di ricerca WALC – Walking Landscapes of Urban Cultures che ha coinvolto le Università di Bologna\, Padova e Milano Bicocca. Scopri qui il progetto e le sedi espositive. \n 
URL:https://geografia.musei.unipd.it/event/dance-moves/
CATEGORIES:Arte,Cartografia,Contesti,Escursioni,Fotografia,Incontri pubblici,Mostra,News
ATTACH;FMTTYPE=image/png:https://geografia.musei.unipd.it/wp-content/uploads/2025/12/BANNER-WALK_PG_anteprima-centrata.png
END:VEVENT
END:VCALENDAR